BEGIN:VCALENDAR
VERSION:2.0
PRODID:-//Celebration Shelter - ECPv6.15.20//NONSGML v1.0//EN
CALSCALE:GREGORIAN
METHOD:PUBLISH
X-ORIGINAL-URL:https://celebrationshelter.net
X-WR-CALDESC:Events for Celebration Shelter
REFRESH-INTERVAL;VALUE=DURATION:PT1H
X-Robots-Tag:noindex
X-PUBLISHED-TTL:PT1H
BEGIN:VTIMEZONE
TZID:America/New_York
BEGIN:DAYLIGHT
TZOFFSETFROM:-0500
TZOFFSETTO:-0400
TZNAME:EDT
DTSTART:20250309T070000
END:DAYLIGHT
BEGIN:STANDARD
TZOFFSETFROM:-0400
TZOFFSETTO:-0500
TZNAME:EST
DTSTART:20251102T060000
END:STANDARD
BEGIN:DAYLIGHT
TZOFFSETFROM:-0500
TZOFFSETTO:-0400
TZNAME:EDT
DTSTART:20260308T070000
END:DAYLIGHT
BEGIN:STANDARD
TZOFFSETFROM:-0400
TZOFFSETTO:-0500
TZNAME:EST
DTSTART:20261101T060000
END:STANDARD
BEGIN:DAYLIGHT
TZOFFSETFROM:-0500
TZOFFSETTO:-0400
TZNAME:EDT
DTSTART:20270314T070000
END:DAYLIGHT
BEGIN:STANDARD
TZOFFSETFROM:-0400
TZOFFSETTO:-0500
TZNAME:EST
DTSTART:20271107T060000
END:STANDARD
END:VTIMEZONE
BEGIN:VEVENT
DTSTART;TZID=America/New_York:20260419T190000
DTEND;TZID=America/New_York:20260419T190000
DTSTAMP:20260420T115700
CREATED:20260412T152617Z
LAST-MODIFIED:20260412T152617Z
UID:4366-1776625200-1776625200@celebrationshelter.net
SUMMARY:Hannibal Thompson
DESCRIPTION:Pursuing his dream of becoming a comedian/actor since he was a young boy. The veteran stand-up comedian and Instagram Sensation has been performing and studying acting\, drama\, sketch\, and stand-up comedy since he was eight years old. In August of 2020\, he released his debut network comedy special\, “Out Of Control\,” produced by Comedy Dynamics on Amazon Prime\, Apple TV\, cable on demand\, and more. The California native has graced the stage at clubs all over the world\, including 5 USO tours in 2015\, 2016\, 2017\, 2018\, and 2019 in countries like Korea\, Japan\, Kuwait\, Guam\, and Abu Dhabi. 6 tours of Western Canada. \nInfo & Tickets
URL:https://celebrationshelter.net/event/hannibal-thompson/
LOCATION:Yoshi’s Oakland\, 510 Embarcadero West\, Oakland\, 94607
CATEGORIES:Arts + Culture,comedy,East Bay,Oakland,Performing Arts,Staff Picks
ATTACH;FMTTYPE=image/jpeg:https://celebrationshelter.net/wp-content/uploads/2026/04/hannibal-thompson-copy-e1775420962165.jpeg
END:VEVENT
BEGIN:VEVENT
DTSTART;TZID=America/New_York:20260420T120000
DTEND;TZID=America/New_York:20260420T120000
DTSTAMP:20260420T115700
CREATED:20260412T153742Z
LAST-MODIFIED:20260412T153742Z
UID:4374-1776686400-1776686400@celebrationshelter.net
SUMMARY:Bobby McFerrin and MOTION: Circlesongs
DESCRIPTION:10-time Grammy-winner Bobby McFerrin‘s mission is to get the world singing. So\, he’s singing with MOTION almost every Monday afternoon right here at The Freight to welcome even more voices into the circle! \nParking\nCenter Street Garage\, next door to The Freight\, is currently open nightly until 1am except Sunday. More details here. \nPublic Transit\nThe Freight & Salvage is BARTable! Downtown Berkeley BART station is a half a block from the Freight. Details at bart.gov. Many AC Transit bus lines stop within a few blocks of the Freight. Details at actransit.org. \nNearby Favorites Bars/Restaurants\nRevival Bar + Kitchen | 2102 Shattuck Avenue\, (510) 549–9950\nComal Next Door | 2024 Shattuck Ave\, (510) 422-662\nGather | 2200 Oxford Street @ Allston\, (510) 809-0400 \nInfo & Tickets
URL:https://celebrationshelter.net/event/bobby-mcferrin-and-motion-circlesongs/
LOCATION:The Freight\, 2020 Addison St\, Berkeley\, CA\, 94704\, United States
CATEGORIES:Arts + Culture,Berkeley,East Bay,Live Music,Performing Arts,Staff Picks
ATTACH;FMTTYPE=image/jpeg:https://celebrationshelter.net/wp-content/uploads/2026/04/Bobby-5_12_25-Dave-Weiland-e1768851300565.jpg
END:VEVENT
END:VCALENDAR