BEGIN:VCALENDAR
VERSION:2.0
PRODID:-//Celebration Shelter - ECPv6.15.20//NONSGML v1.0//EN
CALSCALE:GREGORIAN
METHOD:PUBLISH
X-ORIGINAL-URL:https://celebrationshelter.net
X-WR-CALDESC:Events for Celebration Shelter
REFRESH-INTERVAL;VALUE=DURATION:PT1H
X-Robots-Tag:noindex
X-PUBLISHED-TTL:PT1H
BEGIN:VTIMEZONE
TZID:America/New_York
BEGIN:DAYLIGHT
TZOFFSETFROM:-0500
TZOFFSETTO:-0400
TZNAME:EDT
DTSTART:20250309T070000
END:DAYLIGHT
BEGIN:STANDARD
TZOFFSETFROM:-0400
TZOFFSETTO:-0500
TZNAME:EST
DTSTART:20251102T060000
END:STANDARD
BEGIN:DAYLIGHT
TZOFFSETFROM:-0500
TZOFFSETTO:-0400
TZNAME:EDT
DTSTART:20260308T070000
END:DAYLIGHT
BEGIN:STANDARD
TZOFFSETFROM:-0400
TZOFFSETTO:-0500
TZNAME:EST
DTSTART:20261101T060000
END:STANDARD
BEGIN:DAYLIGHT
TZOFFSETFROM:-0500
TZOFFSETTO:-0400
TZNAME:EDT
DTSTART:20270314T070000
END:DAYLIGHT
BEGIN:STANDARD
TZOFFSETFROM:-0400
TZOFFSETTO:-0500
TZNAME:EST
DTSTART:20271107T060000
END:STANDARD
END:VTIMEZONE
BEGIN:VEVENT
DTSTART;TZID=America/New_York:20260416T190000
DTEND;TZID=America/New_York:20260416T190000
DTSTAMP:20260420T103829
CREATED:20260412T160600Z
LAST-MODIFIED:20260412T160600Z
UID:4391-1776366000-1776366000@celebrationshelter.net
SUMMARY:The Moth StorySLAM – SUS
DESCRIPTION:The Moth StorySLAM is an open-mic storytelling competition in which anyone can share a true\, personal\, 5-minute story on the night’s theme. Sign up for a chance to tell a story or sit back and enjoy the show! \nParking\nCenter Street Garage\, next door to The Freight\, is currently open nightly until 1am except Sunday. More details here. \nPublic Transit\nThe Freight & Salvage is BARTable! Downtown Berkeley BART station is a half a block from the Freight. Details at bart.gov. Many AC Transit bus lines stop within a few blocks of the Freight. Details at actransit.org. \nNearby Favorites Bars/Restaurants\nRevival Bar + Kitchen | 2102 Shattuck Avenue\, (510) 549–9950\nComal Next Door | 2024 Shattuck Ave\, (510) 422-662\nGather | 2200 Oxford Street @ Allston\, (510) 809-0400 \nInfo & Tickets
URL:https://celebrationshelter.net/event/the-moth-storyslam-sus/
LOCATION:The Freight\, 2020 Addison St\, Berkeley\, CA\, 94704\, United States
CATEGORIES:Arts + Culture,Berkeley,East Bay,Live Music,Performing Arts
ATTACH;FMTTYPE=image/jpeg:https://celebrationshelter.net/wp-content/uploads/2026/04/TheMoth-1920-1080-e1775401771482.jpg
END:VEVENT
END:VCALENDAR