BEGIN:VCALENDAR
VERSION:2.0
PRODID:-//Celebration Shelter - ECPv6.15.20//NONSGML v1.0//EN
CALSCALE:GREGORIAN
METHOD:PUBLISH
X-WR-CALNAME:Celebration Shelter
X-ORIGINAL-URL:https://celebrationshelter.net
X-WR-CALDESC:Events for Celebration Shelter
REFRESH-INTERVAL;VALUE=DURATION:PT1H
X-Robots-Tag:noindex
X-PUBLISHED-TTL:PT1H
BEGIN:VTIMEZONE
TZID:Asia/Karachi
BEGIN:STANDARD
TZOFFSETFROM:+0500
TZOFFSETTO:+0500
TZNAME:PKT
DTSTART:20240101T000000
END:STANDARD
END:VTIMEZONE
BEGIN:VEVENT
DTSTART;TZID=Asia/Karachi:20251211T200000
DTEND;TZID=Asia/Karachi:20251211T200000
DTSTAMP:20260420T152401
CREATED:20251208T035307Z
LAST-MODIFIED:20251209T001127Z
UID:3120-1765483200-1765483200@celebrationshelter.net
SUMMARY:Annie & The Caldwells
DESCRIPTION:Annie & The Caldwells are a family band that plays a powerful soul from West Point\, Mississippi. Their music pulls from artists the family love — The Gap Band\, Chaka Khan\, Bootsy Collins. Their acclaimed album Can’t Lose (My Soul) was released by David Byrne’s Luaka Bop record label in 2025. \nParking\nCenter Street Garage\, next door to The Freight\, is currently open nightly until 1am except Sunday. More details here. \nPublic Transit\nThe Freight & Salvage is BARTable! Downtown Berkeley BART station is a half a block from the Freight. Details at bart.gov. Many AC Transit bus lines stop within a few blocks of the Freight. Details at actransit.org. \nNearby Favorites Bars/Restaurants\nRevival Bar + Kitchen | 2102 Shattuck Avenue\, (510) 549–9950\nComal Next Door | 2024 Shattuck Ave\, (510) 422-662\nGather | 2200 Oxford Street @ Allston\, (510) 809-0400 \nInfo & Tickets
URL:https://celebrationshelter.net/event/annie-the-caldwells/
LOCATION:The Freight\, 2020 Addison St\, Berkeley\, CA\, 94704\, United States
CATEGORIES:Arts + Culture,Berkeley,East Bay,Live Music,Performing Arts,Staff Picks
ATTACH;FMTTYPE=image/jpeg:https://celebrationshelter.net/wp-content/uploads/2025/12/novdec-anniecaldwells-e1764317544536.jpg
END:VEVENT
BEGIN:VEVENT
DTSTART;TZID=Asia/Karachi:20251213T200000
DTEND;TZID=Asia/Karachi:20251213T200000
DTSTAMP:20260420T152401
CREATED:20251208T035651Z
LAST-MODIFIED:20251209T001114Z
UID:3123-1765656000-1765656000@celebrationshelter.net
SUMMARY:Alam Khan\, Vijay Iyer\, Nitin Mitta
DESCRIPTION:An improvisational dialogue between piano\, sarod\, and tabla. This project began with a long-standing friendship and creative curiosity between Vijay Iyer and Alam Khan\, both of whom had worked independently with tabla player Nitin Mitta. When the three gathered in California for a two-day session\, it unfolded as an unplanned yet deeply connected musical conversation. Born of spontaneity and mutual respect\, this collaboration lives in the moment. Drawing from their shared fluency in improvisation\, the trio recorded a series of intimate\, exploratory pieces that became the foundation for their upcoming EP. These recordings reflect the spirit of listening and discovery that guided their first encounter. \nParking\nCenter Street Garage\, next door to The Freight\, is currently open nightly until 1am except Sunday. More details here. \nPublic Transit\nThe Freight & Salvage is BARTable! Downtown Berkeley BART station is a half a block from the Freight. Details at bart.gov. Many AC Transit bus lines stop within a few blocks of the Freight. Details at actransit.org. \nNearby Favorites Bars/Restaurants\nRevival Bar + Kitchen | 2102 Shattuck Avenue\, (510) 549–9950\nComal Next Door | 2024 Shattuck Ave\, (510) 422-662\nGather | 2200 Oxford Street @ Allston\, (510) 809-0400 \nInfo & Tickets
URL:https://celebrationshelter.net/event/alam-khan-vijay-iyer-nitin-mitta/
LOCATION:The Freight\, 2020 Addison St\, Berkeley\, CA\, 94704\, United States
CATEGORIES:Arts + Culture,Berkeley,East Bay,Live Music,Performing Arts,Staff Picks
ATTACH;FMTTYPE=image/jpeg:https://celebrationshelter.net/wp-content/uploads/2025/12/novdec-Vijay-Iyer-Alam-Khan-Nitin-Mitta-1.jpg
END:VEVENT
BEGIN:VEVENT
DTSTART;TZID=Asia/Karachi:20251219T200000
DTEND;TZID=Asia/Karachi:20251219T200000
DTSTAMP:20260420T152401
CREATED:20251209T001607Z
LAST-MODIFIED:20251209T001608Z
UID:3168-1766174400-1766174400@celebrationshelter.net
SUMMARY:Corey Harris & Cedric Watson: True Blues
DESCRIPTION:Hosted by Corey Harris\, a MacArthur Grant recipient\, and featuring renowned Creole/Blues musician Cedric Watson\, True Blues chronicles the extraordinary living culture of the blues in an evening of music and conversation. In bringing the True Blues film to the concert stage\, the True Blues concert vividly brings to life this crucial wellspring of American music. \nParking\nCenter Street Garage\, next door to The Freight\, is currently open nightly until 1am except Sunday. More details here. \nPublic Transit\nThe Freight & Salvage is BARTable! Downtown Berkeley BART station is a half a block from the Freight. Details at bart.gov. Many AC Transit bus lines stop within a few blocks of the Freight. Details at actransit.org. \nNearby Favorites Bars/Restaurants\nRevival Bar + Kitchen | 2102 Shattuck Avenue\, (510) 549–9950\nComal Next Door | 2024 Shattuck Ave\, (510) 422-662\nGather | 2200 Oxford Street @ Allston\, (510) 809-0400 \nInfo & Tickets
URL:https://celebrationshelter.net/event/corey-harris-cedric-watson-true-blues/
LOCATION:The Freight\, 2020 Addison St\, Berkeley\, CA\, 94704\, United States
CATEGORIES:Arts + Culture,Berkeley,East Bay,Live Music,Performing Arts,Staff Picks
ATTACH;FMTTYPE=image/jpeg:https://celebrationshelter.net/wp-content/uploads/2025/12/novdec-Corey-and-cedric-1.jpg
END:VEVENT
BEGIN:VEVENT
DTSTART;TZID=Asia/Karachi:20251222T120000
DTEND;TZID=Asia/Karachi:20251222T120000
DTSTAMP:20260420T152401
CREATED:20251208T034818Z
LAST-MODIFIED:20251209T001138Z
UID:3114-1766404800-1766404800@celebrationshelter.net
SUMMARY:Bobby McFerrin & MOTION: Circlesongs
DESCRIPTION:Join Bobby and Bay Area’s MOTION featuring Bryan Dyer\, David Worm\, and Destani Wolf. They will lead Circlesongs at noon and encourage everyone to bring a spirit of adventure\, curiosity\, trust\, and joy. Let it free your voice. Find your place in the circle. \nParking\nCenter Street Garage\, next door to The Freight\, is currently open nightly until 1am except Sunday. More details here. \nPublic Transit\nThe Freight & Salvage is BARTable! Downtown Berkeley BART station is a half a block from the Freight. Details at bart.gov. Many AC Transit bus lines stop within a few blocks of the Freight. Details at actransit.org. \nNearby Favorites Bars/Restaurants\nRevival Bar + Kitchen | 2102 Shattuck Avenue\, (510) 549–9950\nComal Next Door | 2024 Shattuck Ave\, (510) 422-662\nGather | 2200 Oxford Street @ Allston\, (510) 809-0400 \nInfo & Tickets
URL:https://celebrationshelter.net/event/bobby-mcferrin-motion-circlesongs/
LOCATION:The Freight\, 2020 Addison St\, Berkeley\, CA\, 94704\, United States
CATEGORIES:Arts + Culture,Berkeley,East Bay,Live Music,Performing Arts,Staff Picks
ATTACH;FMTTYPE=image/jpeg:https://celebrationshelter.net/wp-content/uploads/2025/12/Bobby-McFerrin_Dave-Padilla_.jpg
END:VEVENT
END:VCALENDAR